BEGIN:VCALENDAR
VERSION:2.0
PRODID:SchoolNow
CALSCALE:GREGORIAN
BEGIN:VEVENT
UID:04f79810-91c1-11ed-b095-0e4b3e18c365
DTSTAMP:20230310T174843Z
SUMMARY:Regular Meeting 7:00 PM/Executive Session 5:00 PM
URL;VALUE=URI:https://www.decaturproud.org/boe/calendar/3663543/regular-mee
 ting-7-00-pm
DTSTART:20230314T230000Z
DTEND:20230315T000000Z
END:VEVENT
END:VCALENDAR
