BEGIN:VCALENDAR
VERSION:2.0
PRODID:SchoolNow
CALSCALE:GREGORIAN
BEGIN:VEVENT
UID:c99b536a-91c0-11ed-9999-0e4b3e18c365
DTSTAMP:20230206T180642Z
SUMMARY:Work Session 5:30 PM
URL;VALUE=URI:https://www.decaturproud.org/boe/calendar/3663540/work-sessio
 n-5-30-pm
DTSTART:20230209T223000Z
DTEND:20230210T003000Z
END:VEVENT
END:VCALENDAR
