BEGIN:VCALENDAR
VERSION:2.0
PRODID:SchoolNow
CALSCALE:GREGORIAN
BEGIN:VEVENT
UID:a087477c-91c0-11ed-b127-0e4b3e18c365
DTSTAMP:20230127T144015Z
SUMMARY:Work Session 5:00 PM
URL;VALUE=URI:https://www.decaturproud.org/boe/calendar/3663539/work-sessio
 n-5-00-pm
DTSTART:20230201T220000Z
DTEND:20230202T000000Z
END:VEVENT
END:VCALENDAR
