BEGIN:VCALENDAR
VERSION:2.0
PRODID:SchoolNow
CALSCALE:GREGORIAN
BEGIN:VEVENT
UID:5a9abd5c-8df6-11ed-bdd4-0ef3de45020d
DTSTAMP:20230106T191433Z
SUMMARY:Board of Finance Meeting
URL;VALUE=URI:https://www.decaturproud.org/boe/calendar/3657325/board-of-fi
 nance-meeting
DTSTART:20230111T011500Z
DTEND:20230111T014500Z
END:VEVENT
END:VCALENDAR
