BEGIN:VCALENDAR
VERSION:2.0
PRODID:SchoolNow
CALSCALE:GREGORIAN
BEGIN:VEVENT
UID:1058b2da-8df6-11ed-98e9-0ef3de45020d
DTSTAMP:20230106T191229Z
SUMMARY:Reorganization and Regular Meeting 7:00 PM/Executive Session 5:30 P
 M
URL;VALUE=URI:https://www.decaturproud.org/boe/calendar/3657320/reorganizat
 ion-and-regular-meeting-7-00-pm-executive-session-5-30-pm
DTSTART:20230111T000000Z
DTEND:20230111T010000Z
END:VEVENT
END:VCALENDAR
