BEGIN:VCALENDAR
VERSION:2.0
PRODID:SchoolNow
CALSCALE:GREGORIAN
BEGIN:VEVENT
UID:690195b0-69a1-11ed-9659-0e77d0dec41b
DTSTAMP:20221121T133549Z
SUMMARY:Executive Session 5:00 PM
URL;VALUE=URI:https://www.decaturproud.org/boe/calendar/3619784/executive-s
 ession-5-00-pm
DTSTART:20221128T220000Z
DTEND:20221129T000000Z
END:VEVENT
END:VCALENDAR
