BEGIN:VCALENDAR
VERSION:2.0
PRODID:SchoolNow
CALSCALE:GREGORIAN
BEGIN:VEVENT
UID:af7340dc-5922-11ed-a860-0e4a58c70f8f
DTSTAMP:20221031T134822Z
SUMMARY:Tentative Agreement Meeting
URL;VALUE=URI:https://www.decaturproud.org/boe/calendar/3575452/tentative-a
 greement-meeting
DTSTART:20221102T150000Z
DTEND:20221102T160000Z
END:VEVENT
END:VCALENDAR
