BEGIN:VCALENDAR
VERSION:2.0
PRODID:SchoolNow
CALSCALE:GREGORIAN
BEGIN:VEVENT
UID:10fca080-d126-11ec-a696-0a45d5178b79
DTSTAMP:20220516T132342Z
SUMMARY:Work Session 7:00 PM
URL;VALUE=URI:https://www.decaturproud.org/boe/calendar/3197031/work-sessio
 n-7-00-pm
DTSTART:20220518T230000Z
DTEND:20220519T010000Z
END:VEVENT
END:VCALENDAR
