BEGIN:VCALENDAR
VERSION:2.0
PRODID:SchoolNow
CALSCALE:GREGORIAN
BEGIN:VEVENT
UID:048e30fc-b42f-11ec-a3b8-0a0c43d072d9
DTSTAMP:20220404T155146Z
SUMMARY:Work Session 5:30 PM
URL;VALUE=URI:https://www.decaturproud.org/boe/calendar/3152726/work-sessio
 n-5-30-pm
DTSTART:20220406T213000Z
DTEND:20220406T233000Z
END:VEVENT
END:VCALENDAR
