BEGIN:VCALENDAR
VERSION:2.0
PRODID:SchoolNow
CALSCALE:GREGORIAN
BEGIN:VEVENT
UID:82b9b368-9655-11ec-bb6a-0256b87b7469
DTSTAMP:20220225T161055Z
SUMMARY:Work Session 5:00 PM
URL;VALUE=URI:https://www.decaturproud.org/boe/calendar/3116271/work-sessio
 n-5-00-pm
DTSTART:20220301T220000Z
DTEND:20220302T000000Z
END:VEVENT
END:VCALENDAR
