BEGIN:VCALENDAR
VERSION:2.0
PRODID:SchoolNow
CALSCALE:GREGORIAN
BEGIN:VEVENT
UID:4bb1c868-73de-11ec-9b76-0acdde0ed3c1
DTSTAMP:20221209T153640Z
SUMMARY:Regular Meeting 7:00 PM/Executive Session 5:30 PM
URL;VALUE=URI:https://www.decaturproud.org/boe/calendar/3072820/regular-mee
 ting-7-00-pm
DTSTART:20221214T000000Z
DTEND:20221214T010000Z
END:VEVENT
END:VCALENDAR
