BEGIN:VCALENDAR
VERSION:2.0
PRODID:SchoolNow
CALSCALE:GREGORIAN
BEGIN:VEVENT
UID:10b20390-73de-11ec-a3b2-0acdde0ed3c1
DTSTAMP:20220930T124057Z
SUMMARY:Regular Meeting 7:00 PM/Executive Session 5:30 PM
URL;VALUE=URI:https://www.decaturproud.org/boe/calendar/3072818/regular-mee
 ting-7-00-pm
DTSTART:20221004T230000Z
DTEND:20221005T000000Z
END:VEVENT
END:VCALENDAR
