BEGIN:VCALENDAR
VERSION:2.0
PRODID:SchoolNow
CALSCALE:GREGORIAN
BEGIN:VEVENT
UID:f8093462-73dd-11ec-af0a-0acdde0ed3c1
DTSTAMP:20220909T135130Z
SUMMARY:Regular Meeting 7:00 PM/Executive Session 5:30 PM
URL;VALUE=URI:https://www.decaturproud.org/boe/calendar/3072817/regular-mee
 ting-7-00-pm
DTSTART:20220913T230000Z
DTEND:20220914T000000Z
END:VEVENT
END:VCALENDAR
