BEGIN:VCALENDAR
VERSION:2.0
PRODID:SchoolNow
CALSCALE:GREGORIAN
BEGIN:VEVENT
UID:c08ce81c-73dd-11ec-b08b-0acdde0ed3c1
DTSTAMP:20220722T124806Z
SUMMARY:Regular Meeting 7:00 PM/Executive Session 5:30 PM
URL;VALUE=URI:https://www.decaturproud.org/boe/calendar/3072815/regular-mee
 ting-7-00-pm
DTSTART:20220726T230000Z
DTEND:20220727T000000Z
END:VEVENT
END:VCALENDAR
