BEGIN:VCALENDAR
VERSION:2.0
PRODID:SchoolNow
CALSCALE:GREGORIAN
BEGIN:VEVENT
UID:4fd3d6d0-73dd-11ec-8b05-0acdde0ed3c1
DTSTAMP:20220505T141410Z
SUMMARY:Regular Meeting 7:00 PM/Executive Session 5:30 PM
URL;VALUE=URI:https://www.decaturproud.org/boe/calendar/3072812/regular-mee
 ting-7-00-pm
DTSTART:20220510T230000Z
DTEND:20220511T000000Z
END:VEVENT
END:VCALENDAR
