BEGIN:VCALENDAR
VERSION:2.0
PRODID:SchoolNow
CALSCALE:GREGORIAN
BEGIN:VEVENT
UID:1e94b058-73dd-11ec-9666-0acdde0ed3c1
DTSTAMP:20220411T123922Z
SUMMARY:Regular Meeting 7:00 PM/Executive Session 5:30 PM
URL;VALUE=URI:https://www.decaturproud.org/boe/calendar/3072811/regular-mee
 ting-7-00-pm
DTSTART:20220412T230000Z
DTEND:20220413T000000Z
END:VEVENT
END:VCALENDAR
