BEGIN:VCALENDAR
VERSION:2.0
PRODID:SchoolNow
CALSCALE:GREGORIAN
BEGIN:VEVENT
UID:03c9acd8-73dd-11ec-81c8-0acdde0ed3c1
DTSTAMP:20220311T183618Z
SUMMARY:Regular Meeting 7:00 PM/Executive Session 5:00 PM
URL;VALUE=URI:https://www.decaturproud.org/boe/calendar/3072810/regular-mee
 ting-7-00-pm
DTSTART:20220315T230000Z
DTEND:20220316T000000Z
END:VEVENT
END:VCALENDAR
