BEGIN:VCALENDAR
VERSION:2.0
PRODID:SchoolNow
CALSCALE:GREGORIAN
BEGIN:VEVENT
UID:d68a8ee2-73da-11ec-9f7c-0e7419f7ac59
DTSTAMP:20220207T140951Z
SUMMARY:Regular Meeting 7:00 PM/Executive Session 5:00 PM
URL;VALUE=URI:https://www.decaturproud.org/boe/calendar/3072809/regular-mee
 ting-7-00-pm
DTSTART:20220210T000000Z
DTEND:20220210T010000Z
END:VEVENT
END:VCALENDAR
