BEGIN:VCALENDAR
VERSION:2.0
PRODID:SchoolNow
CALSCALE:GREGORIAN
BEGIN:VEVENT
UID:71070a9c-6fe7-11ec-885d-0e5cc4685345
DTSTAMP:20220107T182716Z
SUMMARY:Board of Finance Meeting
URL;VALUE=URI:https://www.decaturproud.org/boe/calendar/3053230/board-of-fi
 nance-meeting
DTSTART:20220112T011500Z
DTEND:20220112T014500Z
END:VEVENT
END:VCALENDAR
