BEGIN:VCALENDAR
VERSION:2.0
PRODID:SchoolNow
CALSCALE:GREGORIAN
BEGIN:VEVENT
UID:1f3db32e-59d4-11ec-96ce-025e75a739ef
DTSTAMP:20220107T181306Z
SUMMARY:Reorganization and Regular Meeting 7:00 PM/Executive Session 5:00 P
 M
URL;VALUE=URI:https://www.decaturproud.org/boe/calendar/2944653/reorganizat
 ion-and-regular-meeting-7-00-pm
DTSTART:20220112T000000Z
DTEND:20220112T010000Z
END:VEVENT
END:VCALENDAR
