BEGIN:VCALENDAR
VERSION:2.0
PRODID:SchoolNow
CALSCALE:GREGORIAN
BEGIN:VEVENT
UID:8ffa91c8-38bd-11ec-8569-02893dcd32bd
DTSTAMP:20211029T133855Z
SUMMARY:Tentative Agreement Meeting 5:00 PM
URL;VALUE=URI:https://www.decaturproud.org/boe/calendar/2853294/tentative-a
 greement-meeting-5-00-pm
DTSTART:20211103T210000Z
DTEND:20211103T220000Z
END:VEVENT
END:VCALENDAR
