BEGIN:VCALENDAR
VERSION:2.0
PRODID:SchoolNow
CALSCALE:GREGORIAN
BEGIN:VEVENT
UID:332b1efc-01c9-11ec-9fe4-02e5eda6e069
DTSTAMP:20210820T151340Z
SUMMARY:Work Session 5:00 PM
URL;VALUE=URI:https://www.decaturproud.org/boe/calendar/2680434/work-sessio
 n-5-00-pm
DTSTART:20210824T210000Z
DTEND:20210824T230000Z
END:VEVENT
END:VCALENDAR
