BEGIN:VCALENDAR
VERSION:2.0
PRODID:SchoolNow
CALSCALE:GREGORIAN
BEGIN:VEVENT
UID:fc671cbc-503f-11eb-9175-0a7c748f3b53
DTSTAMP:20211210T161241Z
SUMMARY:Regular Meeting 7:00 PM/Executive Session 5:00 PM
URL;VALUE=URI:https://www.decaturproud.org/boe/calendar/2520561/regular-mee
 ting-7-00-pm
DTSTART:20211215T000000Z
DTEND:20211215T010000Z
END:VEVENT
END:VCALENDAR
