BEGIN:VCALENDAR
VERSION:2.0
PRODID:SchoolNow
CALSCALE:GREGORIAN
BEGIN:VEVENT
UID:948392b0-503f-11eb-9835-0a7c748f3b53
DTSTAMP:20211108T172313Z
SUMMARY:Regular Meeting 7:00 PM
URL;VALUE=URI:https://www.decaturproud.org/boe/calendar/2520560/regular-mee
 ting-7-00-pm
DTSTART:20211112T000000Z
DTEND:20211112T010000Z
END:VEVENT
END:VCALENDAR
