BEGIN:VCALENDAR
VERSION:2.0
PRODID:SchoolNow
CALSCALE:GREGORIAN
BEGIN:VEVENT
UID:7ba64562-503f-11eb-94ff-0a7c748f3b53
DTSTAMP:20211001T154408Z
SUMMARY:Regular Meeting 7:00 PM/Executive Session 5:00 PM
URL;VALUE=URI:https://www.decaturproud.org/boe/calendar/2520559/regular-mee
 ting-7-00-pm
DTSTART:20211005T230000Z
DTEND:20211006T000000Z
END:VEVENT
END:VCALENDAR
