BEGIN:VCALENDAR
VERSION:2.0
PRODID:SchoolNow
CALSCALE:GREGORIAN
BEGIN:VEVENT
UID:5b6c35ea-503f-11eb-abad-0a7c748f3b53
DTSTAMP:20210902T172816Z
SUMMARY:Regular Meeting 7:00 PM/Executive Session 5:30 PM
URL;VALUE=URI:https://www.decaturproud.org/boe/calendar/2520558/regular-mee
 ting-7-00-pm
DTSTART:20210907T230000Z
DTEND:20210908T000000Z
END:VEVENT
END:VCALENDAR
