BEGIN:VCALENDAR
VERSION:2.0
PRODID:SchoolNow
CALSCALE:GREGORIAN
BEGIN:VEVENT
UID:313de6b0-503f-11eb-a446-0a7c748f3b53
DTSTAMP:20210709T165116Z
SUMMARY:Regular Meeting 7:00 PM/Executive Session 5:30 PM
URL;VALUE=URI:https://www.decaturproud.org/boe/calendar/2520556/regular-mee
 ting-7-00-pm
DTSTART:20210713T230000Z
DTEND:20210714T000000Z
END:VEVENT
END:VCALENDAR
