BEGIN:VCALENDAR
VERSION:2.0
PRODID:SchoolNow
CALSCALE:GREGORIAN
BEGIN:VEVENT
UID:395955d0-e9cd-11ed-850b-0edd1ede0373
DTSTAMP:20230503T161155Z
SUMMARY:Madagascar Jr. Musical
URL;VALUE=URI:https://www.decaturproud.org/blue-academy/calendar/4176134/ma
 dagascar-jr-musical
DTSTART:20230604T190000Z
DTEND:20230604T210000Z
END:VEVENT
END:VCALENDAR
