BEGIN:VCALENDAR
VERSION:2.0
PRODID:SchoolNow
CALSCALE:GREGORIAN
BEGIN:VEVENT
UID:16cd9f4e-e9cd-11ed-acc8-0edd1ede0373
DTSTAMP:20230503T161057Z
SUMMARY:Madagascar Jr. Musical
URL;VALUE=URI:https://www.decaturproud.org/blue-academy/calendar/4176133/ma
 dagascar-jr-musical
DTSTART:20230603T230000Z
DTEND:20230604T010000Z
END:VEVENT
END:VCALENDAR
