BEGIN:VCALENDAR
VERSION:2.0
PRODID:SchoolNow
CALSCALE:GREGORIAN
BEGIN:VEVENT
UID:8d6210f0-e9cc-11ed-a826-0edd1ede0373
DTSTAMP:20230503T160947Z
SUMMARY:Madagascar Jr. Musical
URL;VALUE=URI:https://www.decaturproud.org/blue-academy/calendar/4176132/ma
 dagascar-jr-musical
DTSTART:20230602T230000Z
DTEND:20230603T010000Z
END:VEVENT
END:VCALENDAR
