BEGIN:VCALENDAR
VERSION:2.0
PRODID:SchoolNow
CALSCALE:GREGORIAN
BEGIN:VEVENT
UID:97c500c6-cd66-11ec-b365-0ee2b2ee898f
DTSTAMP:20220506T180145Z
SUMMARY:Shrek Jr. the Musical
URL;VALUE=URI:https://www.decaturproud.org/blue-academy/calendar/3192530/sh
 rek-jr-the-musical
DTSTART:20220605T180000Z
DTEND:20220605T190000Z
END:VEVENT
END:VCALENDAR
