BEGIN:VCALENDAR
VERSION:2.0
PRODID:SchoolNow
CALSCALE:GREGORIAN
BEGIN:VEVENT
UID:7bc809e0-cd66-11ec-812e-0ee2b2ee898f
DTSTAMP:20220506T180058Z
SUMMARY:Shrek Jr. the Musical
URL;VALUE=URI:https://www.decaturproud.org/blue-academy/calendar/3192521/sh
 rek-jr-the-musical
DTSTART:20220604T230000Z
DTEND:20220605T000000Z
END:VEVENT
END:VCALENDAR
