BEGIN:VCALENDAR
VERSION:2.0
PRODID:SchoolNow
CALSCALE:GREGORIAN
BEGIN:VEVENT
UID:d5ca6f88-cd65-11ec-8059-0ee2b2ee898f
DTSTAMP:20220506T180013Z
SUMMARY:Shrek Jr. the Musical
URL;VALUE=URI:https://www.decaturproud.org/blue-academy/calendar/3192520/sh
 rek-jr-the-musical
DTSTART:20220603T230000Z
DTEND:20220604T000000Z
END:VEVENT
END:VCALENDAR
