BEGIN:VCALENDAR
VERSION:2.0
PRODID:SchoolNow
CALSCALE:GREGORIAN
BEGIN:VEVENT
UID:faeb062a-c657-11ec-ade2-0abcccda90db
DTSTAMP:20220427T182931Z
SUMMARY:DTEF Teacher Appreciation Flower Sale
URL;VALUE=URI:https://www.decaturproud.org/blue-academy/calendar/3182805/dt
 ef-teacher-appreciation-flower-sale
DTSTART:20220504T125000Z
DTEND:20220504T132000Z
END:VEVENT
END:VCALENDAR
