BEGIN:VCALENDAR
VERSION:2.0
PRODID:SchoolNow
CALSCALE:GREGORIAN
BEGIN:VEVENT
UID:abaa2e74-bffe-11ec-bcf5-0e129efd6e29
DTSTAMP:20220419T163506Z
SUMMARY:Kindergarten Roundup
URL;VALUE=URI:https://www.decaturproud.org/blue-academy/calendar/3175358/ki
 ndergarten-roundup
DTSTART:20220421T210000Z
DTEND:20220421T230000Z
END:VEVENT
END:VCALENDAR
