BEGIN:VCALENDAR
VERSION:2.0
PRODID:SchoolNow
CALSCALE:GREGORIAN
BEGIN:VEVENT
UID:54326206-fe98-11eb-8315-0a935d7b7e8d
DTSTAMP:20210816T134616Z
SUMMARY:Blue Academy Picture Day
LOCATION:Blue Academy
URL;VALUE=URI:https://www.decaturproud.org/blue-academy/calendar/2673253/bl
 ue-academy-picture-day
DTSTART;VALUE=DATE:20210825
DTEND;VALUE=DATE:20210826
END:VEVENT
END:VCALENDAR
