BEGIN:VCALENDAR
VERSION:2.0
PRODID:SchoolNow
CALSCALE:GREGORIAN
BEGIN:VEVENT
UID:7ff5a558-e4a6-11eb-8ae7-029487f66971
DTSTAMP:20210714T132212Z
SUMMARY:Blue Academy Back to School Night
URL;VALUE=URI:https://www.decaturproud.org/blue-academy/calendar/2638758/bl
 ue-academy-back-to-school-night
DTSTART:20210802T213000Z
DTEND:20210802T223000Z
END:VEVENT
END:VCALENDAR
