BEGIN:VCALENDAR
VERSION:2.0
PRODID:SchoolNow
CALSCALE:GREGORIAN
BEGIN:VEVENT
UID:915833c0-e3d3-11eb-a719-02463c07ad47
DTSTAMP:20210720T111029Z
SUMMARY:Last Student Day 2022
URL;VALUE=URI:https://www.decaturproud.org/blue-academy/calendar/2637922/la
 st-student-day
DTSTART;VALUE=DATE:20220526
DTEND;VALUE=DATE:20220527
END:VEVENT
END:VCALENDAR
