BEGIN:VCALENDAR
VERSION:2.0
PRODID:SchoolNow
CALSCALE:GREGORIAN
BEGIN:VEVENT
UID:7c7336d6-e3d2-11eb-8788-02463c07ad47
DTSTAMP:20210720T110956Z
SUMMARY:2nd Semester Begins 2022
URL;VALUE=URI:https://www.decaturproud.org/blue-academy/calendar/2637902/2n
 d-semester-begins
DTSTART;VALUE=DATE:20220106
DTEND;VALUE=DATE:20220107
END:VEVENT
END:VCALENDAR
