BEGIN:VCALENDAR
VERSION:2.0
PRODID:SchoolNow
CALSCALE:GREGORIAN
BEGIN:VEVENT
UID:570ee390-e3d2-11eb-a4a9-02463c07ad47
DTSTAMP:20210720T110947Z
SUMMARY:Winter Recess 2021-22 (No School)
URL;VALUE=URI:https://www.decaturproud.org/blue-academy/calendar/2637897/wi
 nter-recess-no-school
DTSTART;VALUE=DATE:20211222
DTEND;VALUE=DATE:20220106
END:VEVENT
END:VCALENDAR
