BEGIN:VCALENDAR
VERSION:2.0
PRODID:SchoolNow
CALSCALE:GREGORIAN
BEGIN:VEVENT
UID:cf9fbd3c-e3cf-11eb-b8a0-0208022715dd
DTSTAMP:20210720T110812Z
SUMMARY:In Person Registration - Afternoon
URL;VALUE=URI:https://www.decaturproud.org/blue-academy/calendar/2637872/in
 -person-registration
DTSTART:20210720T200000Z
DTEND:20210721T000000Z
END:VEVENT
END:VCALENDAR
