BEGIN:VCALENDAR
VERSION:2.0
PRODID:SchoolNow
CALSCALE:GREGORIAN
BEGIN:VEVENT
UID:9b0635a6-e3cf-11eb-a169-0208022715dd
DTSTAMP:20210720T111049Z
SUMMARY:Online Registration Opens 2021
URL;VALUE=URI:https://www.decaturproud.org/blue-academy/calendar/2637860/on
 line-registration-opens
DTSTART;VALUE=DATE:20210715
DTEND;VALUE=DATE:20210716
END:VEVENT
END:VCALENDAR
