BEGIN:VCALENDAR
VERSION:2.0
PRODID:SchoolNow
CALSCALE:GREGORIAN
BEGIN:VEVENT
UID:e3d99390-57df-11ea-bf10-0ae3a95434ff
DTSTAMP:20200225T150250Z
SUMMARY:Camp Invention - STEM Summer Camp
URL;VALUE=URI:https://www.decaturproud.org/blue-academy/calendar/2207195/ca
 mp-invention-stem-summer-camp
DTSTART:20200601T130000Z
DTEND:20200605T140000Z
END:VEVENT
END:VCALENDAR
