BEGIN:VCALENDAR
VERSION:2.0
PRODID:SchoolNow
CALSCALE:GREGORIAN
BEGIN:VEVENT
UID:d3afd12a-d632-11e9-8290-12d44fec48a0
DTSTAMP:20190913T142859Z
SUMMARY:Winter Recess-No School
URL;VALUE=URI:https://www.decaturproud.org/blue-academy/calendar/2093377/wi
 nter-recess-no-school
DTSTART:20191220T152700Z
DTEND:20200103T162700Z
END:VEVENT
END:VCALENDAR
