BEGIN:VCALENDAR
VERSION:2.0
PRODID:SchoolNow
CALSCALE:GREGORIAN
BEGIN:VEVENT
UID:f9d9bf42-d631-11e9-8c5e-12f494fbf93c
DTSTAMP:20190913T142254Z
SUMMARY:Fall Recess-No School
URL;VALUE=URI:https://www.decaturproud.org/blue-academy/calendar/2093348/fa
 ll-recess-no-school
DTSTART:20191014T142100Z
DTEND:20191018T152100Z
END:VEVENT
END:VCALENDAR
