BEGIN:VCALENDAR
VERSION:2.0
PRODID:SchoolNow
CALSCALE:GREGORIAN
BEGIN:VEVENT
UID:8f251dd6-4022-11e9-a639-12b09aead5b8
DTSTAMP:20190314T115905Z
SUMMARY:Decatur Township Sports Physicals & Health Fair
URL;VALUE=URI:https://www.decaturproud.org/blue-academy/calendar/1952019/de
 catur-township-sports-physicals-health-fair
DTSTART:20190411T220000Z
DTEND:20190412T000000Z
END:VEVENT
END:VCALENDAR
