BEGIN:VCALENDAR
VERSION:2.0
PRODID:SchoolNow
CALSCALE:GREGORIAN
BEGIN:VEVENT
UID:35caa0dc-1e6f-11e9-bd30-12d98e1e1fe6
DTSTAMP:20190311T172205Z
SUMMARY:Teacher Recruitment Fair
URL;VALUE=URI:https://www.decaturproud.org/blue-academy/calendar/1934040/te
 acher-recruitment-fair
DTSTART:20190320T200000Z
DTEND:20190320T230000Z
END:VEVENT
END:VCALENDAR
