BEGIN:VCALENDAR
VERSION:2.0
PRODID:SchoolNow
CALSCALE:GREGORIAN
BEGIN:VEVENT
UID:f1283e62-ff10-11e8-8843-1215bb40674e
DTSTAMP:20181213T195446Z
SUMMARY:Parent Viewing of Social Health Films Grades 4-6 at Blue and Gold
URL;VALUE=URI:https://www.decaturproud.org/blue-academy/calendar/1919247/pa
 rent-viewing-of-social-health-films-grades-4-6-at-blue-and-gold
DTSTART:20190122T223000Z
DTEND:20190122T233000Z
END:VEVENT
END:VCALENDAR
