BEGIN:VCALENDAR
VERSION:2.0
PRODID:SchoolNow
CALSCALE:GREGORIAN
BEGIN:VEVENT
UID:5991a97c-bfef-11e8-b059-0ab50b5c8ab0
DTSTAMP:20180924T114535Z
SUMMARY:Winter Recess No School
URL;VALUE=URI:https://www.decaturproud.org/blue-academy/calendar/1874588/wi
 nter-recess-no-school
DTSTART:20181221T135700Z
DTEND:20190104T145700Z
END:VEVENT
END:VCALENDAR
