BEGIN:VCALENDAR
VERSION:2.0
PRODID:SchoolNow
CALSCALE:GREGORIAN
BEGIN:VEVENT
UID:37689112-bfef-11e8-b49d-0ab50b5c8ab0
DTSTAMP:20180924T114438Z
SUMMARY:End of 1st Semester
URL;VALUE=URI:https://www.decaturproud.org/blue-academy/calendar/1874579/en
 d-of-1st-semester
DTSTART;VALUE=DATE:20181220
DTEND;VALUE=DATE:20181221
END:VEVENT
END:VCALENDAR
